
BEGIN:VCALENDAR
VERSION:2.0
PRODID:-//富山県アルミ産業協会 - ECPv5.0.2.1//NONSGML v1.0//EN
CALSCALE:GREGORIAN
METHOD:PUBLISH
X-WR-CALNAME:富山県アルミ産業協会
X-ORIGINAL-URL:https://alumi.or.jp
X-WR-CALDESC:富山県アルミ産業協会 のイベント
BEGIN:VTIMEZONE
TZID:Asia/Tokyo
BEGIN:STANDARD
TZOFFSETFROM:+0900
TZOFFSETTO:+0900
TZNAME:JST
DTSTART:20210101T000000
END:STANDARD
END:VTIMEZONE
BEGIN:VEVENT
DTSTART;TZID=Asia/Tokyo:20210409T090000
DTEND;TZID=Asia/Tokyo:20210409T160000
DTSTAMP:20260421T100755
CREATED:20210302T004148Z
LAST-MODIFIED:20210302T004554Z
UID:2997-1617958800-1617984000@alumi.or.jp
SUMMARY:新入社員アルミ建材加工組立技術研修
DESCRIPTION:新入社員を対象としたアルミ概論および工作図面の読み方・書き方 \n研修会場：ポリテクセンター富山 \n
URL:https://alumi.or.jp/schedule/2997
CATEGORIES:講演会・セミナー
END:VEVENT
END:VCALENDAR