
BEGIN:VCALENDAR
VERSION:2.0
PRODID:-//富山県アルミ産業協会 - ECPv5.0.2.1//NONSGML v1.0//EN
CALSCALE:GREGORIAN
METHOD:PUBLISH
X-WR-CALNAME:富山県アルミ産業協会
X-ORIGINAL-URL:https://alumi.or.jp
X-WR-CALDESC:富山県アルミ産業協会 のイベント
BEGIN:VTIMEZONE
TZID:Asia/Tokyo
BEGIN:STANDARD
TZOFFSETFROM:+0900
TZOFFSETTO:+0900
TZNAME:JST
DTSTART:20210101T000000
END:STANDARD
END:VTIMEZONE
BEGIN:VEVENT
DTSTART;TZID=Asia/Tokyo:20210405T090000
DTEND;TZID=Asia/Tokyo:20210405T160000
DTSTAMP:20260421T100426
CREATED:20210302T003849Z
LAST-MODIFIED:20210302T003849Z
UID:2995-1617613200-1617638400@alumi.or.jp
SUMMARY:新入社員安全衛生研修
DESCRIPTION:新入社員を対象とした安全衛生研修 \n研修会場：ポリテクセンター富山 \n
URL:https://alumi.or.jp/schedule/2995
CATEGORIES:講演会・セミナー
END:VEVENT
END:VCALENDAR