
BEGIN:VCALENDAR
VERSION:2.0
PRODID:-//富山県アルミ産業協会 - ECPv5.0.2.1//NONSGML v1.0//EN
CALSCALE:GREGORIAN
METHOD:PUBLISH
X-WR-CALNAME:富山県アルミ産業協会
X-ORIGINAL-URL:https://alumi.or.jp
X-WR-CALDESC:富山県アルミ産業協会 のイベント
BEGIN:VTIMEZONE
TZID:Asia/Tokyo
BEGIN:STANDARD
TZOFFSETFROM:+0900
TZOFFSETTO:+0900
TZNAME:JST
DTSTART:20200101T000000
END:STANDARD
END:VTIMEZONE
BEGIN:VEVENT
DTSTART;TZID=Asia/Tokyo:20201122T140000
DTEND;TZID=Asia/Tokyo:20201122T163000
DTSTAMP:20260421T202355
CREATED:20201023T004357Z
LAST-MODIFIED:20201023T004357Z
UID:2902-1606053600-1606062600@alumi.or.jp
SUMMARY:「ひかり輝く自分へ ブラッシュアップ大作戦」
DESCRIPTION:◆場　所：ねんりんＣａｆｅ（高岡市石塚４１） \n◆内　容：ワールド・カフェ（参加者全員によるコミュニケーション） \n
URL:https://alumi.or.jp/schedule/2902
CATEGORIES:会員行事
END:VEVENT
END:VCALENDAR