
BEGIN:VCALENDAR
VERSION:2.0
PRODID:-//富山県アルミ産業協会 - ECPv5.0.2.1//NONSGML v1.0//EN
CALSCALE:GREGORIAN
METHOD:PUBLISH
X-WR-CALNAME:富山県アルミ産業協会
X-ORIGINAL-URL:https://alumi.or.jp
X-WR-CALDESC:富山県アルミ産業協会 のイベント
BEGIN:VTIMEZONE
TZID:Asia/Tokyo
BEGIN:STANDARD
TZOFFSETFROM:+0900
TZOFFSETTO:+0900
TZNAME:JST
DTSTART:20200101T000000
END:STANDARD
END:VTIMEZONE
BEGIN:VEVENT
DTSTART;TZID=Asia/Tokyo:20201028T160000
DTEND;TZID=Asia/Tokyo:20201028T170000
DTSTAMP:20260422T015811
CREATED:20201023T003352Z
LAST-MODIFIED:20201023T003451Z
UID:2896-1603900800-1603904400@alumi.or.jp
SUMMARY:経営労務委員会
DESCRIPTION:◆場　所：高岡商工ビル　５階５０２ \n
URL:https://alumi.or.jp/schedule/2896
CATEGORIES:会員行事
END:VEVENT
END:VCALENDAR