
BEGIN:VCALENDAR
VERSION:2.0
PRODID:-//富山県アルミ産業協会 - ECPv5.0.2.1//NONSGML v1.0//EN
CALSCALE:GREGORIAN
METHOD:PUBLISH
X-WR-CALNAME:富山県アルミ産業協会
X-ORIGINAL-URL:https://alumi.or.jp
X-WR-CALDESC:富山県アルミ産業協会 のイベント
BEGIN:VTIMEZONE
TZID:Asia/Tokyo
BEGIN:STANDARD
TZOFFSETFROM:+0900
TZOFFSETTO:+0900
TZNAME:JST
DTSTART:20200101T000000
END:STANDARD
END:VTIMEZONE
BEGIN:VEVENT
DTSTART;VALUE=DATE:20200207
DTEND;VALUE=DATE:20200209
DTSTAMP:20260422T125950
CREATED:20191112T014053Z
LAST-MODIFIED:20191112T014053Z
UID:2625-1581033600-1581206399@alumi.or.jp
SUMMARY:生産性向上支援訓練セミナー「モノづくりマネジメント」
DESCRIPTION:\n\n\n◆\n日　　時\n　２月７日（金）・８日（土）　２日間\n\n\n◆\n場　　所\n　ポリテクセンター富山\n\n\n◆\n 定　　員\n　１５名\n\n\n◆\n受  講  料\n　５，５００円（税込）\n\n\n◆\n申込締切\n　１２月２０日（金）\n\n\n\n  \n
URL:https://alumi.or.jp/schedule/2625
CATEGORIES:講演会・セミナー
END:VEVENT
END:VCALENDAR