
BEGIN:VCALENDAR
VERSION:2.0
PRODID:-//富山県アルミ産業協会 - ECPv5.0.2.1//NONSGML v1.0//EN
CALSCALE:GREGORIAN
METHOD:PUBLISH
X-WR-CALNAME:富山県アルミ産業協会
X-ORIGINAL-URL:https://alumi.or.jp
X-WR-CALDESC:富山県アルミ産業協会 のイベント
BEGIN:VTIMEZONE
TZID:Asia/Tokyo
BEGIN:STANDARD
TZOFFSETFROM:+0900
TZOFFSETTO:+0900
TZNAME:JST
DTSTART:20190101T000000
END:STANDARD
END:VTIMEZONE
BEGIN:VEVENT
DTSTART;TZID=Asia/Tokyo:20190802T160000
DTEND;TZID=Asia/Tokyo:20190802T200000
DTSTAMP:20260422T234813
CREATED:20190703T062223Z
LAST-MODIFIED:20190703T062638Z
UID:2509-1564761600-1564776000@alumi.or.jp
SUMMARY:8月例会・暑気払い懇親会
DESCRIPTION:高岡商工ビル\n・8F会議室　講演会　    16:00~\n講師：飯野道子行政書士事務所\n所長　飯野道子 氏\n演題：「彼が2ヶ月で結婚できた理由（わけ）」\n～紹介しない結婚相談所で結婚できる秘密を紹介します～\n・10Fレストラン 　暑気払い懇親会  　18:00~ \n
URL:https://alumi.or.jp/schedule/2509
CATEGORIES:会員行事
END:VEVENT
END:VCALENDAR