
BEGIN:VCALENDAR
VERSION:2.0
PRODID:-//富山県アルミ産業協会 - ECPv5.0.2.1//NONSGML v1.0//EN
CALSCALE:GREGORIAN
METHOD:PUBLISH
X-WR-CALNAME:富山県アルミ産業協会
X-ORIGINAL-URL:https://alumi.or.jp
X-WR-CALDESC:富山県アルミ産業協会 のイベント
BEGIN:VTIMEZONE
TZID:Asia/Tokyo
BEGIN:STANDARD
TZOFFSETFROM:+0900
TZOFFSETTO:+0900
TZNAME:JST
DTSTART:20190101T000000
END:STANDARD
END:VTIMEZONE
BEGIN:VEVENT
DTSTART;TZID=Asia/Tokyo:20190709T160000
DTEND;TZID=Asia/Tokyo:20190709T170000
DTSTAMP:20260423T014037
CREATED:20190627T000949Z
LAST-MODIFIED:20190703T061248Z
UID:2413-1562688000-1562691600@alumi.or.jp
SUMMARY:運営委員会
DESCRIPTION:◆場　所　：　高岡商工ビル　５０３号室 \n
URL:https://alumi.or.jp/schedule/2413
CATEGORIES:会員行事
END:VEVENT
END:VCALENDAR