
BEGIN:VCALENDAR
VERSION:2.0
PRODID:-//富山県アルミ産業協会 - ECPv5.0.2.1//NONSGML v1.0//EN
CALSCALE:GREGORIAN
METHOD:PUBLISH
X-WR-CALNAME:富山県アルミ産業協会
X-ORIGINAL-URL:https://alumi.or.jp
X-WR-CALDESC:富山県アルミ産業協会 のイベント
BEGIN:VTIMEZONE
TZID:Asia/Tokyo
BEGIN:STANDARD
TZOFFSETFROM:+0900
TZOFFSETTO:+0900
TZNAME:JST
DTSTART:20180101T000000
END:STANDARD
END:VTIMEZONE
BEGIN:VEVENT
DTSTART;TZID=Asia/Tokyo:20181023T160000
DTEND;TZID=Asia/Tokyo:20181023T170000
DTSTAMP:20260421T222541
CREATED:20180927T041116Z
LAST-MODIFIED:20180927T041328Z
UID:2209-1540310400-1540314000@alumi.or.jp
SUMMARY:技能技術委員会
DESCRIPTION:\n\n\n◆\n日　　時\n　１０月２３日（火）　１６：００～\n\n\n◆\n場　　所\n　高岡商工ビル　５０１号室\n\n\n\n
URL:https://alumi.or.jp/schedule/2209
CATEGORIES:会員行事
END:VEVENT
END:VCALENDAR