
BEGIN:VCALENDAR
VERSION:2.0
PRODID:-//富山県アルミ産業協会 - ECPv5.0.2.1//NONSGML v1.0//EN
CALSCALE:GREGORIAN
METHOD:PUBLISH
X-WR-CALNAME:富山県アルミ産業協会
X-ORIGINAL-URL:https://alumi.or.jp
X-WR-CALDESC:富山県アルミ産業協会 のイベント
BEGIN:VTIMEZONE
TZID:Asia/Tokyo
BEGIN:STANDARD
TZOFFSETFROM:+0900
TZOFFSETTO:+0900
TZNAME:JST
DTSTART:20180101T000000
END:STANDARD
END:VTIMEZONE
BEGIN:VEVENT
DTSTART;VALUE=DATE:20180409
DTEND;VALUE=DATE:20180410
DTSTAMP:20260425T001013
CREATED:20180412T064427Z
LAST-MODIFIED:20180412T064427Z
UID:2090-1523232000-1523318399@alumi.or.jp
SUMMARY:新入社員アルミ建材加工組立セミナー
DESCRIPTION:場所：ポリテクセンター富山\n時間：９：００～１６：００ \n
URL:https://alumi.or.jp/schedule/2090
CATEGORIES:講演会・セミナー
END:VEVENT
END:VCALENDAR