
BEGIN:VCALENDAR
VERSION:2.0
PRODID:-//富山県アルミ産業協会 - ECPv5.0.2.1//NONSGML v1.0//EN
CALSCALE:GREGORIAN
METHOD:PUBLISH
X-WR-CALNAME:富山県アルミ産業協会
X-ORIGINAL-URL:https://alumi.or.jp
X-WR-CALDESC:富山県アルミ産業協会 のイベント
BEGIN:VTIMEZONE
TZID:Asia/Tokyo
BEGIN:STANDARD
TZOFFSETFROM:+0900
TZOFFSETTO:+0900
TZNAME:JST
DTSTART:20170101T000000
END:STANDARD
END:VTIMEZONE
BEGIN:VEVENT
DTSTART;TZID=Asia/Tokyo:20171107T160000
DTEND;TZID=Asia/Tokyo:20171107T170000
DTSTAMP:20260422T100620
CREATED:20171130T061604Z
LAST-MODIFIED:20171130T061604Z
UID:1968-1510070400-1510074000@alumi.or.jp
SUMMARY:１１月運営委員会
DESCRIPTION:\n\n\n◆\n日　　時\n　１１月７日（火）　１６：００～\n\n\n◆\n場　　所\n　高岡商工ビル　５０３号室\n\n\n\n
URL:https://alumi.or.jp/schedule/1968
CATEGORIES:会員行事
END:VEVENT
END:VCALENDAR