
BEGIN:VCALENDAR
VERSION:2.0
PRODID:-//富山県アルミ産業協会 - ECPv5.0.2.1//NONSGML v1.0//EN
CALSCALE:GREGORIAN
METHOD:PUBLISH
X-WR-CALNAME:富山県アルミ産業協会
X-ORIGINAL-URL:https://alumi.or.jp
X-WR-CALDESC:富山県アルミ産業協会 のイベント
BEGIN:VTIMEZONE
TZID:Asia/Tokyo
BEGIN:STANDARD
TZOFFSETFROM:+0900
TZOFFSETTO:+0900
TZNAME:JST
DTSTART:20170101T000000
END:STANDARD
END:VTIMEZONE
BEGIN:VEVENT
DTSTART;TZID=Asia/Tokyo:20171027T120000
DTEND;TZID=Asia/Tokyo:20171027T133000
DTSTAMP:20260420T064335
CREATED:20171002T051622Z
LAST-MODIFIED:20171002T051622Z
UID:1953-1509105600-1509111000@alumi.or.jp
SUMMARY:10月例会講演会
DESCRIPTION:\n\n\n◆\n日　　時\n１０月２７日（金）１２：００～\n\n\n◆\n場　　所\n　高岡商工ビル１０階　商工レストラン\n\n\n◆\n講　　師\n   ＨＩＬＬＴＯＰ（株）\n\n\n\n\n　　　副社長　山 本 昌 作 氏\n\n\n◆\n演　　題\n　「楽しくなければ仕事じゃない！」\n\n\n\n
URL:https://alumi.or.jp/schedule/1953
CATEGORIES:会員行事
END:VEVENT
END:VCALENDAR