
BEGIN:VCALENDAR
VERSION:2.0
PRODID:-//富山県アルミ産業協会 - ECPv5.0.2.1//NONSGML v1.0//EN
CALSCALE:GREGORIAN
METHOD:PUBLISH
X-WR-CALNAME:富山県アルミ産業協会
X-ORIGINAL-URL:https://alumi.or.jp
X-WR-CALDESC:富山県アルミ産業協会 のイベント
BEGIN:VTIMEZONE
TZID:Asia/Tokyo
BEGIN:STANDARD
TZOFFSETFROM:+0900
TZOFFSETTO:+0900
TZNAME:JST
DTSTART:20170101T000000
END:STANDARD
END:VTIMEZONE
BEGIN:VEVENT
DTSTART;TZID=Asia/Tokyo:20170621T160000
DTEND;TZID=Asia/Tokyo:20170621T170000
DTSTAMP:20260419T124511
CREATED:20170118T001756Z
LAST-MODIFIED:20170609T054806Z
UID:1770-1498060800-1498064400@alumi.or.jp
SUMMARY:総務広報委員会
DESCRIPTION:\n\n\n◆\n日　　時\n　６月２１日（水）　１６：００～\n\n\n◆\n場　　所\n　高岡商工ビル　５０１号室\n\n\n\n
URL:https://alumi.or.jp/schedule/1770
CATEGORIES:会員行事
END:VEVENT
END:VCALENDAR