
BEGIN:VCALENDAR
VERSION:2.0
PRODID:-//富山県アルミ産業協会 - ECPv5.0.2.1//NONSGML v1.0//EN
CALSCALE:GREGORIAN
METHOD:PUBLISH
X-WR-CALNAME:富山県アルミ産業協会
X-ORIGINAL-URL:https://alumi.or.jp
X-WR-CALDESC:富山県アルミ産業協会 のイベント
BEGIN:VTIMEZONE
TZID:Asia/Tokyo
BEGIN:STANDARD
TZOFFSETFROM:+0900
TZOFFSETTO:+0900
TZNAME:JST
DTSTART:20170101T000000
END:STANDARD
END:VTIMEZONE
BEGIN:VEVENT
DTSTART;TZID=Asia/Tokyo:20170623T140000
DTEND;TZID=Asia/Tokyo:20170623T150000
DTSTAMP:20260419T161853
CREATED:20160622T034025Z
LAST-MODIFIED:20170609T061252Z
UID:1557-1498226400-1498230000@alumi.or.jp
SUMMARY:技能技術委員会
DESCRIPTION:\n\n\n◆\n日　　時\n　６月２３日（金）　１４：００～　※例会後開催\n\n\n◆\n場　　所\n　高岡商工ビル　５０１号室（503号室から変更）\n\n\n\n
URL:https://alumi.or.jp/schedule/1557
CATEGORIES:会員行事
END:VEVENT
END:VCALENDAR