
BEGIN:VCALENDAR
VERSION:2.0
PRODID:-//富山県アルミ産業協会 - ECPv5.0.2.1//NONSGML v1.0//EN
CALSCALE:GREGORIAN
METHOD:PUBLISH
X-WR-CALNAME:富山県アルミ産業協会
X-ORIGINAL-URL:https://alumi.or.jp
X-WR-CALDESC:富山県アルミ産業協会 のイベント
BEGIN:VTIMEZONE
TZID:Asia/Tokyo
BEGIN:STANDARD
TZOFFSETFROM:+0900
TZOFFSETTO:+0900
TZNAME:JST
DTSTART:20150101T000000
END:STANDARD
END:VTIMEZONE
BEGIN:VEVENT
DTSTART;TZID=Asia/Tokyo:20150605T090000
DTEND;TZID=Asia/Tokyo:20150606T160000
DTSTAMP:20260422T012559
CREATED:20150512T065838Z
LAST-MODIFIED:20150512T071124Z
UID:1270-1433494800-1433606400@alumi.or.jp
SUMMARY:中堅社員ものづくりセミナー
DESCRIPTION:\n\n\n◆\n開催日\n：６月５日（金）、６日（土）\n\n\n◆\n時　間\n：９：００～１６：００\n\n\n◆\n場　所\n：ポリテクセンター富山\n\n\n\n
URL:https://alumi.or.jp/schedule/1270
CATEGORIES:講演会・セミナー
END:VEVENT
END:VCALENDAR