
BEGIN:VCALENDAR
VERSION:2.0
PRODID:-//富山県アルミ産業協会 - ECPv5.0.2.1//NONSGML v1.0//EN
CALSCALE:GREGORIAN
METHOD:PUBLISH
X-WR-CALNAME:富山県アルミ産業協会
X-ORIGINAL-URL:https://alumi.or.jp
X-WR-CALDESC:富山県アルミ産業協会 のイベント
BEGIN:VTIMEZONE
TZID:Asia/Tokyo
BEGIN:STANDARD
TZOFFSETFROM:+0900
TZOFFSETTO:+0900
TZNAME:JST
DTSTART:20150101T000000
END:STANDARD
END:VTIMEZONE
BEGIN:VEVENT
DTSTART;TZID=Asia/Tokyo:20150508T080000
DTEND;TZID=Asia/Tokyo:20150508T170000
DTSTAMP:20260421T215813
CREATED:20150508T002535Z
LAST-MODIFIED:20150508T002535Z
UID:1256-1431072000-1431104400@alumi.or.jp
SUMMARY:第1回理事会・5月運営委員会
DESCRIPTION:\n\n\n◆\n日　時\n　５月１２日（火）　１１:００～\n\n\n◆\n場　所\n　高岡商工ビル　５０1号室\n\n\n \n \n \n\n\n \n \n★今回は理事会・運営委員会の合同開催です\n\n\n\n
URL:https://alumi.or.jp/schedule/1256
CATEGORIES:講演会・セミナー
END:VEVENT
END:VCALENDAR