
BEGIN:VCALENDAR
VERSION:2.0
PRODID:-//富山県アルミ産業協会 - ECPv5.0.2.1//NONSGML v1.0//EN
CALSCALE:GREGORIAN
METHOD:PUBLISH
X-WR-CALNAME:富山県アルミ産業協会
X-ORIGINAL-URL:https://alumi.or.jp
X-WR-CALDESC:富山県アルミ産業協会 のイベント
BEGIN:VTIMEZONE
TZID:Asia/Tokyo
BEGIN:STANDARD
TZOFFSETFROM:+0900
TZOFFSETTO:+0900
TZNAME:JST
DTSTART:20150101T000000
END:STANDARD
END:VTIMEZONE
BEGIN:VEVENT
DTSTART;TZID=Asia/Tokyo:20150526T080000
DTEND;TZID=Asia/Tokyo:20150526T170000
DTSTAMP:20260421T235154
CREATED:20150508T000952Z
LAST-MODIFIED:20150508T001244Z
UID:1254-1432627200-1432659600@alumi.or.jp
SUMMARY:総会・優良従業員表彰式・懇親会
DESCRIPTION:  \n\n\n\n◆\n月日・場所\n 5月26日（火）\nホテルニューオータニ高岡\n \n\n\n◆\n日　程\n 定期総会\n16：00 \n \n\n\n \n \n 　理事会\n \n　\n\n\n \n \n 優良従業員表彰式\n17：00\n \n\n\n \n \n 懇親会\n17：30\n \n\n\n\n
URL:https://alumi.or.jp/schedule/1254
CATEGORIES:講演会・セミナー
END:VEVENT
END:VCALENDAR