
BEGIN:VCALENDAR
VERSION:2.0
PRODID:-//富山県アルミ産業協会 - ECPv5.0.2.1//NONSGML v1.0//EN
CALSCALE:GREGORIAN
METHOD:PUBLISH
X-WR-CALNAME:富山県アルミ産業協会
X-ORIGINAL-URL:https://alumi.or.jp
X-WR-CALDESC:富山県アルミ産業協会 のイベント
BEGIN:VTIMEZONE
TZID:Asia/Tokyo
BEGIN:STANDARD
TZOFFSETFROM:+0900
TZOFFSETTO:+0900
TZNAME:JST
DTSTART:20150101T000000
END:STANDARD
END:VTIMEZONE
BEGIN:VEVENT
DTSTART;TZID=Asia/Tokyo:20150613T080000
DTEND;TZID=Asia/Tokyo:20150613T170000
DTSTAMP:20260422T025938
CREATED:20150508T000125Z
LAST-MODIFIED:20150508T000125Z
UID:1253-1434182400-1434214800@alumi.or.jp
SUMMARY:ゴルフ大会
DESCRIPTION:第５１回　会長杯親睦ゴルフ大会 \n\n\n\n◆\n日　　時\n \n \n６月１３日（土）10：00スタート\n\n\n◆\n場　　所\n \n \n花尾カントリークラブ　\n\n\n◆\nコース\n \n \n西→東　\n\n\n◆\n競技方法\n \n \nダブルペリア方式\n\n\n◆\n参加費\n \n \n5000円（ﾌﾟﾚｰ費・売店購入は自己負担）\n\n\n\n
URL:https://alumi.or.jp/schedule/1253
CATEGORIES:講演会・セミナー
END:VEVENT
END:VCALENDAR