
BEGIN:VCALENDAR
VERSION:2.0
PRODID:-//富山県アルミ産業協会 - ECPv5.0.2.1//NONSGML v1.0//EN
CALSCALE:GREGORIAN
METHOD:PUBLISH
X-WR-CALNAME:富山県アルミ産業協会
X-ORIGINAL-URL:https://alumi.or.jp
X-WR-CALDESC:富山県アルミ産業協会 のイベント
BEGIN:VTIMEZONE
TZID:Asia/Tokyo
BEGIN:STANDARD
TZOFFSETFROM:+0900
TZOFFSETTO:+0900
TZNAME:JST
DTSTART:20150101T000000
END:STANDARD
END:VTIMEZONE
BEGIN:VEVENT
DTSTART;TZID=Asia/Tokyo:20150403T080000
DTEND;TZID=Asia/Tokyo:20150403T170000
DTSTAMP:20260421T164422
CREATED:20150311T045033Z
LAST-MODIFIED:20150311T045359Z
UID:1235-1428048000-1428080400@alumi.or.jp
SUMMARY:新入社員安全衛生研修
DESCRIPTION:\n\n\n日　時\n４月３日（金）９：００～１６：００\n\n\n場　所\nポリテクセンター富山　研修室５\n\n\n講　師\n木澤　覚氏（三協立山(株)安全衛生課　課長）\n\n\n受講料\n2\,000円（昼食・資料代含む）\n\n\n定　員\n40名（先着順）\n\n\n\n　 \n
URL:https://alumi.or.jp/schedule/1235
CATEGORIES:講演会・セミナー
END:VEVENT
END:VCALENDAR