
BEGIN:VCALENDAR
VERSION:2.0
PRODID:-//富山県アルミ産業協会 - ECPv5.0.2.1//NONSGML v1.0//EN
CALSCALE:GREGORIAN
METHOD:PUBLISH
X-WR-CALNAME:富山県アルミ産業協会
X-ORIGINAL-URL:https://alumi.or.jp
X-WR-CALDESC:富山県アルミ産業協会 のイベント
BEGIN:VTIMEZONE
TZID:Asia/Tokyo
BEGIN:STANDARD
TZOFFSETFROM:+0900
TZOFFSETTO:+0900
TZNAME:JST
DTSTART:20140101T000000
END:STANDARD
END:VTIMEZONE
BEGIN:VEVENT
DTSTART;TZID=Asia/Tokyo:20140708T110000
DTEND;TZID=Asia/Tokyo:20140708T120000
DTSTAMP:20260421T084417
CREATED:20140717T045054Z
LAST-MODIFIED:20140717T045210Z
UID:1070-1404817200-1404820800@alumi.or.jp
SUMMARY:運営委員会
DESCRIPTION:７月運営委員会　時間：１１:００～　　場所：高岡商工ビル５０３号室 \n
URL:https://alumi.or.jp/schedule/1070
CATEGORIES:講演会・セミナー
END:VEVENT
END:VCALENDAR