
BEGIN:VCALENDAR
VERSION:2.0
PRODID:-//富山県アルミ産業協会 - ECPv5.0.2.1//NONSGML v1.0//EN
CALSCALE:GREGORIAN
METHOD:PUBLISH
X-WR-CALNAME:富山県アルミ産業協会
X-ORIGINAL-URL:https://alumi.or.jp
X-WR-CALDESC:富山県アルミ産業協会 のイベント
BEGIN:VTIMEZONE
TZID:Asia/Tokyo
BEGIN:STANDARD
TZOFFSETFROM:+0900
TZOFFSETTO:+0900
TZNAME:JST
DTSTART:20140101T000000
END:STANDARD
END:VTIMEZONE
BEGIN:VEVENT
DTSTART;TZID=Asia/Tokyo:20140716T100000
DTEND;TZID=Asia/Tokyo:20140717T170000
DTSTAMP:20260421T083419
CREATED:20140707T052127Z
LAST-MODIFIED:20140714T043120Z
UID:1037-1405504800-1405616400@alumi.or.jp
SUMMARY:第44回　軽金属教育夏季講座
DESCRIPTION:\n\n\n◆\n日　時\n　７月１６日（水）～１７日（木）１０:００～１７:１５\n\n\n◆\n場　所\n　富山県工業技術センター　技術開発館ホール　研修室\n\n\n◆\n参加費\n　無料\n\n\n\n  \n  \n　　　 \n　－日程－ \n\n\n\n７月１６日\n１０：００～１２:００\n軽金属鋳造学\n\n富山大学大学院理工学部研究部　准教授　工学博士　　才川清二　氏 \n\n\n\n \n１３：００～１５:００　\nｱﾙﾐﾆｳﾑ溶接学\n富山大学大学院理工学部研究部　教授　工学博士　　柴柳敏哉　氏\n\n\n \n１５：１５～１７:１５　\n ｱﾙﾐ表面処理\n富山大学大学院理工学部研究部　教授　工学博士　　砂田　聡　氏\n\n\n７月１７日\n１０：００～１２:００\n ｱﾙﾐﾆｳﾑ材料学\n富山大学大学院理工学部研究部　教授　工学博士　　松田健二　氏\n\n\n \n１３：００～１５:００　\n\n 軽金属加工学　　（押出加工） \n\n 富山大学大学院理工学部研究部　教授　工学博士　　高辻則夫　氏\n\n\n \n１５：１５～１７:１５　\n\n 軽金属加工学　（切削加工） \n\n富山大学大学院理工学部研究部　准教授　工学博士　　山田　茂　氏\n\n\n\n　　　　 \n　　　 \n  \n  \n  \n　　　　　　　　　　　　　　　　　　　　　　　　　　　　　　　　　　　　　　　　　　　　　　　　　　　　　　　　　　　　　　　　　　　　　　　　　　　　　　　　　　　　　　　　　　　　　　　　　 　　　　　　　　　　　　　　　　　　　　　　　　　　　　　　　　　　　　　　　　　　　　　　　　　　　　　　　　　　　　　　　　　　　　　　　　　　　　　　　　　　　　　　 　　　　　　　　　　　　　　   　　　　　　　　　　　　　　　　　　　　　　 　　　　　　　 \n
URL:https://alumi.or.jp/schedule/1037
CATEGORIES:講演会・セミナー
END:VEVENT
END:VCALENDAR